BEGIN:VCALENDAR
VERSION:2.0
PRODID:-//Mistyglen Creamery - ECPv6.15.20//NONSGML v1.0//EN
CALSCALE:GREGORIAN
METHOD:PUBLISH
X-WR-CALNAME:Mistyglen Creamery
X-ORIGINAL-URL:https://mistyglencreamery.com
X-WR-CALDESC:Events for Mistyglen Creamery
REFRESH-INTERVAL;VALUE=DURATION:PT1H
X-Robots-Tag:noindex
X-PUBLISHED-TTL:PT1H
BEGIN:VTIMEZONE
TZID:America/Toronto
BEGIN:DAYLIGHT
TZOFFSETFROM:-0500
TZOFFSETTO:-0400
TZNAME:EDT
DTSTART:20220313T070000
END:DAYLIGHT
BEGIN:STANDARD
TZOFFSETFROM:-0400
TZOFFSETTO:-0500
TZNAME:EST
DTSTART:20221106T060000
END:STANDARD
BEGIN:DAYLIGHT
TZOFFSETFROM:-0500
TZOFFSETTO:-0400
TZNAME:EDT
DTSTART:20230312T070000
END:DAYLIGHT
BEGIN:STANDARD
TZOFFSETFROM:-0400
TZOFFSETTO:-0500
TZNAME:EST
DTSTART:20231105T060000
END:STANDARD
BEGIN:DAYLIGHT
TZOFFSETFROM:-0500
TZOFFSETTO:-0400
TZNAME:EDT
DTSTART:20240310T070000
END:DAYLIGHT
BEGIN:STANDARD
TZOFFSETFROM:-0400
TZOFFSETTO:-0500
TZNAME:EST
DTSTART:20241103T060000
END:STANDARD
END:VTIMEZONE
BEGIN:VEVENT
DTSTART;TZID=America/Toronto:20231001T100000
DTEND;TZID=America/Toronto:20231001T160000
DTSTAMP:20260423T075324
CREATED:20230907T181539Z
LAST-MODIFIED:20250424T194305Z
UID:10000003-1696154400-1696176000@mistyglencreamery.com
SUMMARY:Mooovin Into Harvest
DESCRIPTION:Sunday\, October 1st \nJoin us on Oct 1st for our fall open house! \nDo you have a classic car? If so\, join us free and show off your sweet ride! \nWe will be hosting an information session with the Alzheimer’s Society from 9am – 10 (free admission for attending session) \nThe milking cow barn will be open for visiting\, seeing how the robot works and don’t forget to grab your free glass of milk. \nIn addition\, we have a full line of wonderful vendors (over 30)\, 3 food trucks (Grill Cheezery\, Big Daddy Bacon & Basement Kitchen)\, Beer from Natterjacks and live music from Kilowatt Annie lined up. \nOther activities include: \nWagon rides\, dairy museum exhibit\, sand pile\, face painting\, bouncy cow\, cornhole game and stick around for the 4H demonstration at 1pm. \n20% of admission fee and vendor fees are being reserved to help supplement cost for transportation to bring seniors to the farm.
URL:https://mistyglencreamery.com/event/mooovin-into-harvest/
LOCATION:Mistyglen Creamery\, 47008 Yorke Line\, Belmont\, ON\, N0L 1B0\, Canada
ATTACH;FMTTYPE=image/jpeg:https://mistyglencreamery.com/wp-content/uploads/365557122_669532225052395_6355975325707866864_n.jpg
ORGANIZER;CN="Mistyglen Creamery":MAILTO:info@mistyglencreamery.com
END:VEVENT
END:VCALENDAR